BEGIN:VCALENDAR
VERSION:2.0
PRODID:-//Priložnost za mlade - ECPv6.15.20//NONSGML v1.0//EN
CALSCALE:GREGORIAN
METHOD:PUBLISH
X-ORIGINAL-URL:https://priloznostzamlade.si
X-WR-CALDESC:Dogodki za Priložnost za mlade
REFRESH-INTERVAL;VALUE=DURATION:PT1H
X-Robots-Tag:noindex
X-PUBLISHED-TTL:PT1H
BEGIN:VTIMEZONE
TZID:UTC
BEGIN:STANDARD
TZOFFSETFROM:+0000
TZOFFSETTO:+0000
TZNAME:UTC
DTSTART:20240101T000000
END:STANDARD
END:VTIMEZONE
BEGIN:VEVENT
DTSTART;TZID=UTC:20251007T180000
DTEND;TZID=UTC:20251007T193000
DTSTAMP:20260424T155843
CREATED:20230721T054946Z
LAST-MODIFIED:20260319T094611Z
UID:1060-1759860000-1759865400@priloznostzamlade.si
SUMMARY:Sara Isaković - Psihološka odpornost in čuječnost
DESCRIPTION:Pridruži se brezplačnemu webinarju s Saro Isakovič!\nUspeh ni le posledica talenta ali trdega dela. Ključno vlogo igra miselna naravnanost – sposobnost\, da se osredotočiš\, premagaš stres in verjameš vase tudi v najtežjih trenutkih. Z olimpijko in psihologinjo Saro Isaković boš spoznal/-a kako uporabljati psihološke tehnike za boljšo pripravljenost v šoli\, službi ali vsakdanjem življenju. \n✔️ Kako se psihološko pripraviš na pomemben nastop ali izziv✔️ Tehnike umirjanja in osredotočanja pod pritiskom✔️ Kaj se lahko naučimo iz sveta vrhunskega športa✔️ Kako razviti notranjo motivacijo in odpornost✔️ Zakaj sta mentalna stabilnost in samozavest ključna za uspeh✔️ Vprašanja in odgovori v živo s strokovnjakinjo za performance psihologijo \n\nO Sari Isaković:\nSara Isaković je olimpijska podprvakinja iz Pekinga in diplomirana psihologinja\, ki deluje na področju performance psihologije. Sodeluje s podjetniki\, študenti\, športniki in ustvarjalci ter jih uči\, kako razviti mentalno trdnost\, obvladovati tremo in ohranjati osredotočenost.Danes svoje bogate izkušnje z vrhunskega športa in akademije uspešno prenaša na vse\, ki si želijo več – na odru\, v pisarni ali v življenju. \n\nKdaj in kje:\n📍 Zoom webinar – povezavo prejmeš po prijavi🗓️ Datum: 7. oktober 2025⏰ Ura: 18:00🎟️ Cena: Brezplačno \n📩 Prijavi se zdaj in odkrij\, kako postaneš najboljša različica sebe – z močjo misli.
URL:https://priloznostzamlade.si/event/sara-isakovic-psiholoska-odpornost-in-cujecnost/
LOCATION:Online
CATEGORIES:Psihologija
ATTACH;FMTTYPE=image/jpeg:https://priloznostzamlade.si/wp-content/uploads/2023/07/sara-isakovic.jpg-koledar.jpg
END:VEVENT
END:VCALENDAR